BEGIN:VCALENDAR
VERSION:2.0
PRODID:-//United Soccer Coaches - ECPv5.8.1//NONSGML v1.0//EN
CALSCALE:GREGORIAN
METHOD:PUBLISH
X-WR-CALNAME:United Soccer Coaches
X-ORIGINAL-URL:https://unitedsoccercoaches.org
X-WR-CALDESC:Events for United Soccer Coaches
BEGIN:VTIMEZONE
TZID:America/Chicago
BEGIN:DAYLIGHT
TZOFFSETFROM:-0600
TZOFFSETTO:-0500
TZNAME:CDT
DTSTART:20230312T080000
END:DAYLIGHT
BEGIN:STANDARD
TZOFFSETFROM:-0500
TZOFFSETTO:-0600
TZNAME:CST
DTSTART:20231105T070000
END:STANDARD
END:VTIMEZONE
BEGIN:VEVENT
DTSTART;VALUE=DATE:20231127
DTEND;VALUE=DATE:20231128
DTSTAMP:20260420T035927
CREATED:20230725T191718Z
LAST-MODIFIED:20230725T191718Z
UID:41433-1701043200-1701129599@unitedsoccercoaches.org
SUMMARY:Junior College All-America (CCCAA Men & Women) Nominations Close
DESCRIPTION:
URL:https://unitedsoccercoaches.org/calendar/junior-college-all-america-cccaa-men-women-nominations-close-2/
CATEGORIES:All America,Awards,Junior College,Men,Women
END:VEVENT
END:VCALENDAR